BEGIN:VCALENDAR
VERSION:2.0
PRODID:-//162.241.226.31//NONSGML kigkonsult.se iCalcreator 2.26.9//
CALSCALE:GREGORIAN
METHOD:PUBLISH
X-FROM-URL:https://www.bogue-nc.org
X-WR-TIMEZONE:America/New_York
BEGIN:VTIMEZONE
TZID:America/New_York
X-LIC-LOCATION:America/New_York
BEGIN:STANDARD
DTSTART:20251102T020000
TZOFFSETFROM:-0400
TZOFFSETTO:-0500
RDATE:20261101T020000
TZNAME:EST
END:STANDARD
BEGIN:DAYLIGHT
DTSTART:20260308T020000
TZOFFSETFROM:-0500
TZOFFSETTO:-0400
RDATE:20270314T020000
TZNAME:EDT
END:DAYLIGHT
END:VTIMEZONE
BEGIN:VEVENT
UID:ai1ec-2481@www.bogue-nc.org
DTSTAMP:20260423T141746Z
CATEGORIES:
CONTACT:
DESCRIPTION:
DTSTART;VALUE=DATE:20250120
DTEND;VALUE=DATE:20250121
SEQUENCE:0
SUMMARY:MLK Holiday – Town Hall Closed
URL:https://www.bogue-nc.org/event/mlk-holiday-town-hall-closed/
X-COST-TYPE:free
END:VEVENT
BEGIN:VEVENT
UID:ai1ec-2483@www.bogue-nc.org
DTSTAMP:20260423T141746Z
CATEGORIES:
CONTACT:
DESCRIPTION:
DTSTART;VALUE=DATE:20250526
DTEND;VALUE=DATE:20250527
SEQUENCE:0
SUMMARY:Memorial Day Holiday – Town Hall Closed
URL:https://www.bogue-nc.org/event/memorial-day-holiday-town-hall-closed/
X-COST-TYPE:free
END:VEVENT
BEGIN:VEVENT
UID:ai1ec-2484@www.bogue-nc.org
DTSTAMP:20260423T141746Z
CATEGORIES:
CONTACT:
DESCRIPTION:
DTSTART;VALUE=DATE:20250901
DTEND;VALUE=DATE:20250902
SEQUENCE:0
SUMMARY:Labor Day Holiday – Town Hall Closed
URL:https://www.bogue-nc.org/event/labor-day-holiday-town-hall-closed/
X-COST-TYPE:free
END:VEVENT
BEGIN:VEVENT
UID:ai1ec-2485@www.bogue-nc.org
DTSTAMP:20260423T141746Z
CATEGORIES:
CONTACT:
DESCRIPTION:
DTSTART;VALUE=DATE:20251111
DTEND;VALUE=DATE:20251112
SEQUENCE:0
SUMMARY:Veterans Day Holiday – Town Hall Closed
URL:https://www.bogue-nc.org/event/veterans-day-holiday-town-hall-closed/
X-COST-TYPE:free
END:VEVENT
BEGIN:VEVENT
UID:ai1ec-2486@www.bogue-nc.org
DTSTAMP:20260423T141746Z
CATEGORIES:
CONTACT:
DESCRIPTION:
DTSTART;VALUE=DATE:20251127
DTEND;VALUE=DATE:20251128
SEQUENCE:0
SUMMARY:Thanksgiving Holiday – Town Hall Closed
URL:https://www.bogue-nc.org/event/thanksgiving-holiday-town-hall-closed/
X-COST-TYPE:free
END:VEVENT
BEGIN:VEVENT
UID:ai1ec-2487@www.bogue-nc.org
DTSTAMP:20260423T141746Z
CATEGORIES:
CONTACT:
DESCRIPTION:
DTSTART;VALUE=DATE:20251222
DTEND;VALUE=DATE:20251226
SEQUENCE:0
SUMMARY:Christmas Holiday – Town Hall Closed
URL:https://www.bogue-nc.org/event/christmas-holiday-town-hall-closed/
X-COST-TYPE:free
END:VEVENT
BEGIN:VEVENT
UID:ai1ec-39@www.bogue-nc.org
DTSTAMP:20260423T141746Z
CATEGORIES;LANGUAGE=en-US:Planning Board Meeting
CONTACT:252-393-3055\; boguetown@bizec.rr.com
DESCRIPTION:
DTSTART;TZID=America/New_York:20240307T183000
GEO:+34.699697;-77.036824
LOCATION:Bogue Town Hall @ 121 Chimney Branch Road\, Bogue\, NC 28570\, USA
SEQUENCE:0
SUMMARY:Planning Board Meeting
URL:https://www.bogue-nc.org/event/planning-board-meeting/
X-COST-TYPE:free
X-INSTANT-EVENT:1
END:VEVENT
BEGIN:VEVENT
UID:ai1ec-2431@www.bogue-nc.org
DTSTAMP:20260423T141746Z
CATEGORIES;LANGUAGE=en-US:Council Meeting
CONTACT:
DESCRIPTION:<p>To see the Town Council Draft Agenda click below:</p>\n<p> <
 /p>\n<p> </p>\n<p> </p>
DTSTART;TZID=America/New_York:20241118T180000
DTEND;TZID=America/New_York:20241118T190000
EXDATE;TZID=America/New_York:20250120T180000
EXDATE;TZID=America/New_York:20250421T180000
LOCATION:Bogue Town Hall @ 121 Chimney Branch Rd. Bogue
RRULE:FREQ=MONTHLY;BYDAY=3MO
SEQUENCE:0
SUMMARY:Town Council Meeting
URL:https://www.bogue-nc.org/event/planning-board-meeting-3/
X-COST-TYPE:free
END:VEVENT
BEGIN:VEVENT
UID:ai1ec-2414@www.bogue-nc.org
DTSTAMP:20260423T141746Z
CATEGORIES;LANGUAGE=en-US:Planning Board Meeting
CONTACT:252-393-3055\; boguetown@outlook.com
DESCRIPTION:<p>Click below for the Planning Board Draft Agenda:</p>\n<p><a 
 href='https://www.bogue-nc.org/wp-content/uploads/2024/12/Agenda-December-
 5-1.pdf'>https://www.bogue-nc.org/wp-content/uploads/2024/12/Agenda-Decemb
 er-5.pdf</a></p>\n<p> </p>
DTSTART;TZID=America/New_York:20241205T183000
DTEND;TZID=America/New_York:20241205T193000
GEO:+34.699697;-77.036824
LOCATION:Bogue Town Hall @ 121 Chimney Branch Road\, Bogue\, NC 28570\, USA
SEQUENCE:0
SUMMARY:Planning Board Meeting
URL:https://www.bogue-nc.org/event/planning-board-meeting-2/
X-COST-TYPE:free
END:VEVENT
BEGIN:VEVENT
UID:ai1ec-2479@www.bogue-nc.org
DTSTAMP:20260423T141746Z
CATEGORIES:
CONTACT:
DESCRIPTION:<p>Click below to see a copy of the Town Council Draft Agenda:<
 /p>
DTSTART;TZID=America/New_York:20250113T180000
DTEND;TZID=America/New_York:20250113T190000
LOCATION:Bogue Town Hall
SEQUENCE:0
SUMMARY:Town Council Meeting
URL:https://www.bogue-nc.org/event/town-council-meeting/
X-COST-TYPE:free
END:VEVENT
BEGIN:VEVENT
UID:ai1ec-2514@www.bogue-nc.org
DTSTAMP:20260423T141746Z
CATEGORIES;LANGUAGE=en-US:Planning Board Meeting
CONTACT:
DESCRIPTION:<p>To see the Planning Board Draft Agenda click below:</p>
DTSTART;TZID=America/New_York:20250306T180000
DTEND;TZID=America/New_York:20250306T190000
LOCATION:Bogue Town Hall @ 121 Chimney Branch Rd.
SEQUENCE:0
SUMMARY:Planning Board Meeting
URL:https://www.bogue-nc.org/event/planning-board-meeting-4/
X-COST-TYPE:free
END:VEVENT
BEGIN:VEVENT
UID:ai1ec-2549@www.bogue-nc.org
DTSTAMP:20260423T141746Z
CATEGORIES:
CONTACT:
DESCRIPTION:<p>Please see link for draft agenda:</p>\n<p><a href='https://w
 ww.bogue-nc.org/wp-content/uploads/2025/04/Agenda-April-3.pdf'>https://www
 .bogue-nc.org/wp-content/uploads/2025/04/Agenda-April-3.pdf</a></p>\n<p> <
 /p>
DTSTART;TZID=America/New_York:20250403T180000
DTEND;TZID=America/New_York:20250403T190000
LOCATION:Town Hall @ 121 Chimney Branch Rd. Bogue
SEQUENCE:0
SUMMARY:Planning Board Meeting
URL:https://www.bogue-nc.org/event/planning-board-meeting-5/
X-COST-TYPE:free
END:VEVENT
BEGIN:VEVENT
UID:ai1ec-2559@www.bogue-nc.org
DTSTAMP:20260423T141746Z
CATEGORIES:
CONTACT:
DESCRIPTION:<p>Please click for the draft agenda:</p>\n<p><a href='https://
 www.bogue-nc.org/wp-content/uploads/2025/04/Agenda-April-10-Special-Meetin
 g.pdf'>https://www.bogue-nc.org/wp-content/uploads/2025/04/Agenda-April-10
 -Special-Meeting.pdf</a></p>
DTSTART;TZID=America/New_York:20250410T180000
DTEND;TZID=America/New_York:20250410T190000
SEQUENCE:0
SUMMARY:Planning Board Special Meeting
URL:https://www.bogue-nc.org/event/planning-board-special-meeting/
X-COST-TYPE:free
END:VEVENT
BEGIN:VEVENT
UID:ai1ec-2480@www.bogue-nc.org
DTSTAMP:20260423T141746Z
CATEGORIES:
CONTACT:
DESCRIPTION:<p>Click below to see a copy of the Town Council draft agenda:<
 /p>\n<p><a href='https://www.bogue-nc.org/wp-content/uploads/2025/04/Agend
 a-April-14.pdf'>https://www.bogue-nc.org/wp-content/uploads/2025/04/Agenda
 -April-14.pdf</a></p>
DTSTART;TZID=America/New_York:20250414T180000
DTEND;TZID=America/New_York:20250414T190000
LOCATION:Bogue Town Hall
SEQUENCE:0
SUMMARY:Town Council Meeting
URL:https://www.bogue-nc.org/event/town-council-meeting-2/
X-COST-TYPE:free
END:VEVENT
END:VCALENDAR
